BEGIN:VCALENDAR
VERSION:2.0
PRODID:-//Delta Gamma - ECPv6.15.13.1//NONSGML v1.0//EN
CALSCALE:GREGORIAN
METHOD:PUBLISH
X-ORIGINAL-URL:https://www.deltagamma.org
X-WR-CALDESC:Events for Delta Gamma
REFRESH-INTERVAL;VALUE=DURATION:PT1H
X-Robots-Tag:noindex
X-PUBLISHED-TTL:PT1H
BEGIN:VTIMEZONE
TZID:America/New_York
BEGIN:DAYLIGHT
TZOFFSETFROM:-0500
TZOFFSETTO:-0400
TZNAME:EDT
DTSTART:20250309T070000
END:DAYLIGHT
BEGIN:STANDARD
TZOFFSETFROM:-0400
TZOFFSETTO:-0500
TZNAME:EST
DTSTART:20251102T060000
END:STANDARD
BEGIN:DAYLIGHT
TZOFFSETFROM:-0500
TZOFFSETTO:-0400
TZNAME:EDT
DTSTART:20260308T070000
END:DAYLIGHT
BEGIN:STANDARD
TZOFFSETFROM:-0400
TZOFFSETTO:-0500
TZNAME:EST
DTSTART:20261101T060000
END:STANDARD
BEGIN:DAYLIGHT
TZOFFSETFROM:-0500
TZOFFSETTO:-0400
TZNAME:EDT
DTSTART:20270314T070000
END:DAYLIGHT
BEGIN:STANDARD
TZOFFSETFROM:-0400
TZOFFSETTO:-0500
TZNAME:EST
DTSTART:20271107T060000
END:STANDARD
END:VTIMEZONE
BEGIN:VTIMEZONE
TZID:UTC
BEGIN:STANDARD
TZOFFSETFROM:+0000
TZOFFSETTO:+0000
TZNAME:UTC
DTSTART:20240101T000000
END:STANDARD
END:VTIMEZONE
BEGIN:VEVENT
DTSTART;TZID=America/New_York:20260107T200000
DTEND;TZID=America/New_York:20260107T210000
DTSTAMP:20260417T201336
CREATED:20251117T200340Z
LAST-MODIFIED:20251117T200506Z
UID:10000009-1767816000-1767819600@www.deltagamma.org
SUMMARY:Connected for Good: New Year\, New Journal
DESCRIPTION:Let’s ring in 2026 with a virtual sisterhood where we learn how to create bullet and gratitude journals\, as well as explore new calendaring techniques! Log on\, crack open your pack of markers and let’s get inspired and organized for the new year. Register here.
URL:https://www.deltagamma.org/event/connected-for-good-new-year-new-journal/
CATEGORIES:Alumnae Program,Collegiate Program
LOCATION:
END:VEVENT
BEGIN:VEVENT
DTSTART;VALUE=DATE:20250604
DTEND;VALUE=DATE:20250609
DTSTAMP:20260417T201336
CREATED:20250305T195047Z
LAST-MODIFIED:20250424T133826Z
UID:10000001-1748995200-1749427199@www.deltagamma.org
SUMMARY:Lewis Institute
DESCRIPTION:Lewis Institute\nLewis Institute develops courageous leaders through the realization of their authentic selves\, the knowledge of how to influence others and an understanding of how to facilitate change around Delta Gamma’s mutual purpose. Lewis Institute is an immersive five-day leadership development experience for rising college Juniors. One member attends per collegiate chapter each year. The curriculum for the Lewis Institute allows members to explore their strengths and personal leadership style\, create a plan to influence change within their communities and form a greater connection to Delta Gamma as a whole. Lewis Institute is funded by the Delta Gamma Foundation.
URL:https://www.deltagamma.org/event/lewis-institute/
LOCATION:Lewis Institute\, Fayetteville\, AR\, United States
CATEGORIES:Collegiate Program
ATTACH;FMTTYPE=image/png:https://www.deltagamma.org/wp-content/uploads/2025/03/Events_CB13_Lewis-Institute_Logo.png
END:VEVENT
END:VCALENDAR